BEGIN:VCALENDAR
VERSION:2.0
PRODID:-//BeamYourLife - ECPv6.15.17.1//NONSGML v1.0//EN
CALSCALE:GREGORIAN
METHOD:PUBLISH
X-WR-CALNAME:BeamYourLife
X-ORIGINAL-URL:https://beamyourlife.com
X-WR-CALDESC:Veranstaltungen für BeamYourLife
REFRESH-INTERVAL;VALUE=DURATION:PT1H
X-Robots-Tag:noindex
X-PUBLISHED-TTL:PT1H
BEGIN:VTIMEZONE
TZID:Europe/Berlin
BEGIN:DAYLIGHT
TZOFFSETFROM:+0100
TZOFFSETTO:+0200
TZNAME:CEST
DTSTART:20240331T010000
END:DAYLIGHT
BEGIN:STANDARD
TZOFFSETFROM:+0200
TZOFFSETTO:+0100
TZNAME:CET
DTSTART:20241027T010000
END:STANDARD
BEGIN:DAYLIGHT
TZOFFSETFROM:+0100
TZOFFSETTO:+0200
TZNAME:CEST
DTSTART:20250330T010000
END:DAYLIGHT
BEGIN:STANDARD
TZOFFSETFROM:+0200
TZOFFSETTO:+0100
TZNAME:CET
DTSTART:20251026T010000
END:STANDARD
BEGIN:DAYLIGHT
TZOFFSETFROM:+0100
TZOFFSETTO:+0200
TZNAME:CEST
DTSTART:20260329T010000
END:DAYLIGHT
BEGIN:STANDARD
TZOFFSETFROM:+0200
TZOFFSETTO:+0100
TZNAME:CET
DTSTART:20261025T010000
END:STANDARD
BEGIN:DAYLIGHT
TZOFFSETFROM:+0100
TZOFFSETTO:+0200
TZNAME:CEST
DTSTART:20270328T010000
END:DAYLIGHT
BEGIN:STANDARD
TZOFFSETFROM:+0200
TZOFFSETTO:+0100
TZNAME:CET
DTSTART:20271031T010000
END:STANDARD
END:VTIMEZONE
BEGIN:VEVENT
DTSTART;TZID=Europe/Berlin:20260304T100000
DTEND;TZID=Europe/Berlin:20260308T180000
DTSTAMP:20260424T135724
CREATED:20260209T113329Z
LAST-MODIFIED:20260209T113329Z
UID:6122-1772618400-1772992800@beamyourlife.com
SUMMARY:Messe Dillingen 04.03.2026 - 08.03.2026
DESCRIPTION:Vorfreude auf die WIR 2026 \nVom 4. bis 8. März 2026 lädt die Wirtschafts-\, Informations- und Regionalausstellung (WIR) in Dillingen wieder zum Entdecken ein. Unter dem Motto „Unsere Täler – Unsere Region. Heimat erleben auf der WIR“ werden in einer eigenen Halle das Zusamtal\, Kesseltal\, Bachtal\, Egautal und Donautal mit Tourismus\, Wirtschaft\, Genuss und Kultur präsentiert. \nDie Vorbereitungen laufen auf Hochtouren – die Messeleitung freut sich über Hinweise\, Anregungen und Ideen die dazu beitragen\, die Region noch besser zu verstehen und greifbarer zu machen. \nBesuchen Sie uns! Bereichern Sie Ihr Leben! \nWir freuen uns auf Ihren Besuch. \n 
URL:https://beamyourlife.com/event/messe-dillingen-04-03-2026-08-03-2026/
END:VEVENT
BEGIN:VEVENT
DTSTART;TZID=Europe/Berlin:20260131T093000
DTEND;TZID=Europe/Berlin:20260208T180000
DTSTAMP:20260424T135724
CREATED:20260209T105701Z
LAST-MODIFIED:20260209T105701Z
UID:6119-1769851800-1770573600@beamyourlife.com
SUMMARY:Messe Leipzig 31.01.2026 - 08.02.2026
DESCRIPTION:Die Messe HAUS-GARTEN-FREIZEIT Leipzig ist die große Verbraucherausstellung für die ganze Familie. Eine Vielzahl an nationalen und internationalen Ausstellern präsentieren auf der HAUS-GARTEN-FREIZEIT Messe Leipzig ihre Produkte und Dienstleistungen aus den Bereichen Bauen\, Wohnen\, Garten\, Gesundheit\, Freizeitgestaltung\, Mode und Heimtier. Entdecken Sie Neues\, Einzigartiges oder Überraschendes aus den verschiedensten Branchen. Probieren Sie aus und lassen Sie sich beraten. Ein attraktives Rahmenprogramm mit zahlreichen Highlights und exotische Erlebniswelt\, machen den Besucher der HAUS-GARTEN-FREIZEIT Leipzig darüber hinaus zu einem unterhaltsamen Erlebnis für die ganze Familie. Parallel dazu bietet auch die mitteldeutsche handwerksmesse Qualität und Individualität handwerklicher Produkte und Dienstleistungen. \nBesuchen Sie uns! Strahlen Sie Ihr Leben! \nWir freuen uns auf Ihren Besuch.
URL:https://beamyourlife.com/event/messe-leipzig-31-01-2026-08-02-2026/
END:VEVENT
BEGIN:VEVENT
DTSTART;TZID=Europe/Berlin:20251009T100000
DTEND;TZID=Europe/Berlin:20251012T180000
DTSTAMP:20260424T135724
CREATED:20251106T160039Z
LAST-MODIFIED:20251106T160039Z
UID:6010-1760004000-1760292000@beamyourlife.com
SUMMARY:Apfelmarkt Bad Feilnbach 09.10.2025 -12.10.2025
DESCRIPTION:  \n\n\n\n\n\nIn Zusammenarbeit mit dem Obst- und Gartenbauverein Feilnbach-Wiechs-Litzldorf und dem Gewerbeverband Bad Feilnbach freuen wir uns Sie als Gast auf dem Apfelmarkt in Bad Feilnbach begrüßen zu dürfen! \nDer Apfelmarkt Bad Feilnbach ist Bayerns größter ökologischer Apfelmarkt mit über 200 Sorten von Äpfel und Birnen\, aus dem bekannt großen Streuobstanbaugebiet am Wendelstein. Aber nicht nur Obst\, sondern selbstgemachte Marmeladen\, Schnäpse\, Liköre\, Geräuchertes\, frisches Holzofenbrot\, Korbmacher\, Rechamacha u.v.m. finden Sie am Apfelmarkt. \nBesuchen Sie uns! Beamyourlife! \nWir freuen uns auf Ihren Besuch.
URL:https://beamyourlife.com/event/apfelmarkt-bad-feilnbach-09-10-2025-12-10-2025/
END:VEVENT
BEGIN:VEVENT
DTSTART;TZID=Europe/Berlin:20250919T093000
DTEND;TZID=Europe/Berlin:20250921T180000
DTSTAMP:20260424T135724
CREATED:20251106T155053Z
LAST-MODIFIED:20251106T155053Z
UID:6007-1758274200-1758477600@beamyourlife.com
SUMMARY:Messe Gundenfingen 19.09.2025 - 21.09.2025
DESCRIPTION:In diesem Jahr finden die Gundelfinger Erlebnistage auf dem Gelände des Wohlhüter Garten-Landes statt. Auf der Messe präsentieren sich Aussteller aus verschiedenen Bereichen\, darunter Wirtschaft\, Handwerk\, Imkerei\, Metzgerei\, Baugewerbe und Energieversorgung. Insgesamt 120 lokale Betriebe stellen sich in diesem Jahr vor. Neben dem wirtschaftlichen Aspekt versteht sich diese Messe auch als Volksfest. Auf einer Bühne ist ein Rahmenprogramm mit Musik\, Kinderunterhaltung und verschiedenen Shows geplant. Schirmherr der Veranstaltung ist Gundelfingens Bürgermeister Dieter Nägele. Er betont\, dass die Messe für regionale Unternehmen eine „würdige Plattform“ mit einem einzigartigen Ambiente sei. \nBesuchen Sie uns! Beamyourlife! \nWir freuen uns auf Ihren Besuch.
URL:https://beamyourlife.com/event/messe-gundenfingen-19-09-2025-21-09-2025/
END:VEVENT
BEGIN:VEVENT
DTSTART;TZID=Europe/Berlin:20250808T090000
DTEND;TZID=Europe/Berlin:20250816T180000
DTSTAMP:20260424T135724
CREATED:20250901T132518Z
LAST-MODIFIED:20250901T132701Z
UID:6000-1754643600-1755367200@beamyourlife.com
SUMMARY:Messe Straubing (Gäubodenfest) 08.08.2025 - 16.08.2025
DESCRIPTION:Direkt neben dem Gäubodenvolksfest findet jährlich die Ostbayernschau statt. Der Eintritt in die größte Verbraucherausstellung des ostbayerischen Raums ist frei! \n  \nOstbayernschau: Für 9 Tage Bayerns „größtes Shopping-Center“\n  \nMit 60.000 Quadratmetern Ausstellungs-\, über 22.000 qm Hallenflächen und ca. 650 Ausstellern ist die angrenzende Ostbayernschau zumindest vom 08. – 16. August 2026 das vermutlich größte Shopping-Center im Freistaat. Das „XXL-Einkaufsparadies“ umfasst 16 Hallen – darunter die Joseph-von-Fraunhofer-Halle mit Messehalle – sowie ein großzügiges Freigelände mit Ruhe-Inseln\, Bauherren\, Hobby-Gärtnern\, Landwirten\, Hausfrauen oder Liebhabern kulinarischer Spezialitäten – alle kommen hier auf ihre Kosten. \nBesuchen Sie uns! Beamyourlife! \nWir freuen uns auf Ihren Besuch. \n  \n 
URL:https://beamyourlife.com/event/messe-straubing-gaeubodenfest-08-08-2025-16-08-2025/
END:VEVENT
BEGIN:VEVENT
DTSTART;TZID=Europe/Berlin:20250704T090000
DTEND;TZID=Europe/Berlin:20250708T200000
DTSTAMP:20260424T135724
CREATED:20250709T064844Z
LAST-MODIFIED:20250709T065312Z
UID:5988-1751619600-1752004800@beamyourlife.com
SUMMARY:Ipfmesse Bopfingen 04.07.2025 - 08.07.2025
DESCRIPTION:Die große Ipfmess-Familie der Schausteller\, Marktkaufleute und Gastronomen wird unsere `Mess in gewohnter Manier gestalten und für echtes Ipfmess-Feeling sorgen. Gastlichkeit\, Herzlichkeit und viele gastronomische und kulinarische Höhepunkte im Festzelt Zum Senz\, dem urigen Bierdorf oder in einem der lauschigen Biergärten sind Garanten dafür\, dass auch das leibliche Wohl nicht zu kurz kommt. Für echte Volksfestatmosphäre sorgen die attraktiven Schaustellerbetriebe\, Fahrgeschäfte und über 200 Marktkaufleute. \nAuch Handel und Gewerbe präsentieren sich im Freigelände und im Zelt des Gewerbe- und Handelsvereins Bopfingen in der größten Verbraucherausstellung weit und breit. Wieder dabei ist der große landwirtschaftliche Schwerpunkt im Ausstellungsgelände vor der Sechtabrücke.\nIpfmesse und Landwirtschaft gehören einfach zusammen! \nDie große Ipfmess-Familie freut sich auf eine schöne und unbeschwerte Mess. Ich wünsche Ihnen viele fröhliche Stunden\, eine unbeschwerte Zeit in Bopfingen und heiße alle Besucher der Ipfmesse 2025 ganz herzlich willkommen! \n  \nBesuchen Sie uns! Beamyourlife! \nWir freuen uns auf Ihren Besuch. \n 
URL:https://beamyourlife.com/event/ipfmesse-bopfingen-04-07-2025-08-07-2025/
END:VEVENT
BEGIN:VEVENT
DTSTART;TZID=Europe/Berlin:20250621T090000
DTEND;TZID=Europe/Berlin:20250630T190000
DTSTAMP:20260424T135724
CREATED:20250709T064227Z
LAST-MODIFIED:20250709T064227Z
UID:5985-1750496400-1751310000@beamyourlife.com
SUMMARY:Messe Nördlingen 21.06.2025 - 30.06.2025
DESCRIPTION:Wie üblich gibt es wieder den Marktbereich\, der von 100 Händlern bespielt werde\, so der Tourismuschef. Neue Stände gebe es beispielsweise für Gartendeko\, eine spezielle Saftpresse oder auch besonderer Käse. Ebenfalls neu: Schmuck aus dem 3D-Drucker. Auf der Rieser Verbraucherausstellung präsentieren sich wieder viele Firmen. \nBesuchen Sie uns! Beamyourlife! \nWir freuen uns auf Ihren Besuch.
URL:https://beamyourlife.com/event/messe-noerdlingen-21-06-2025-30-06-2025/
END:VEVENT
BEGIN:VEVENT
DTSTART;TZID=Europe/Berlin:20250606T093000
DTEND;TZID=Europe/Berlin:20250609T190000
DTSTAMP:20260424T135724
CREATED:20250709T070123Z
LAST-MODIFIED:20250709T070123Z
UID:5995-1749202200-1749495600@beamyourlife.com
SUMMARY:Tölzer Rosentage 06.06.2025 - 09.06.2025
DESCRIPTION:Liebe Rosentage-Fans\,\nvom 06. bis 09. Juni diesen Jahres\, also wie gewohnt an Pfingsten\, in den historischen Gärten am ehemaligen Franziskanerkloster in Bad Tölz. \nWir freuen uns\, Sie auch in diesem Jahr wieder als Besucher begrüßen zu dürfen und wünschen Ihnen viel Freude beim Flanieren über unseren bunten Markt der Lebensfreude. \nDabei begegnen Sie blühenden Rosen\, Stauden und Kräutern sowie Kunsthandwerkern und kreativer Kleinkunst\, handgefertigten Holzmöbeln\, stabilen Pflanzenstützen und besonderer Gartendeko\, exklusiver Kleidung und ausgefallenem Schmuck. \nFür alle Besucher gibt es ein buntes Unterhaltungsprogramm und ein kulinarisches Angebot aus der Region\, für Kinder wird es ebenfalls nicht langweilig mit den Angeboten im Kinderzelt und den Hinweisen im Programm.Und wie immer ergänzen Informationsveranstaltungen zu Natur- und Lebensthemen das Programm. \n  \nBesuchen Sie uns! Beamyourlife! \nWir freuen uns auf Ihren Besuch. \n  \n  \n 
URL:https://beamyourlife.com/event/toelzer-rosentage-06-06-2025-09-06-2025/
END:VEVENT
BEGIN:VEVENT
DTSTART;TZID=Europe/Berlin:20250509T100000
DTEND;TZID=Europe/Berlin:20250511T170000
DTSTAMP:20260424T135724
CREATED:20250516T085913Z
LAST-MODIFIED:20250516T085913Z
UID:5975-1746784800-1746982800@beamyourlife.com
SUMMARY:Messe Wolfratshausen (Iloga) 09.05.2025 - 11.05.2025
DESCRIPTION:Die iloga in Wolfratshausen\n\n\nEine Messe für jede Generation mit vielen verschiedenen Themen! Endlich findet die iloga 2025 wieder in der Loisachhalle\, der Dreifach-Turnhalle und dem umliegenden Gelände statt. Natürlich bietet diese Neuauflage der Traditionsmesse wieder eine Menge interessanter regionaler Aussteller\, Mitmach-Aktionen und abwechslungsreiche Rahmenprogramm-Punkte. Aussteller zu den Themen Energie\, Bauen\, Sanieren & Haushalt präsentieren sich im Rahmen der Energie- und Baumesse Oberland mit ihrem Experten-Wissen in der Loisachhalle. \nBesuchen Sie uns! Beamyourlife! \nWir freuen uns auf Ihren Besuch. \n 
URL:https://beamyourlife.com/event/messe-wolfratshausen-iloga-09-05-2025-11-05-2025/
END:VEVENT
END:VCALENDAR