BEGIN:VCALENDAR
VERSION:2.0
PRODID:-//BeamYourLife - ECPv6.15.17.1//NONSGML v1.0//EN
CALSCALE:GREGORIAN
METHOD:PUBLISH
X-WR-CALNAME:BeamYourLife
X-ORIGINAL-URL:https://beamyourlife.com
X-WR-CALDESC:Veranstaltungen für BeamYourLife
REFRESH-INTERVAL;VALUE=DURATION:PT1H
X-Robots-Tag:noindex
X-PUBLISHED-TTL:PT1H
BEGIN:VTIMEZONE
TZID:Europe/Berlin
BEGIN:DAYLIGHT
TZOFFSETFROM:+0100
TZOFFSETTO:+0200
TZNAME:CEST
DTSTART:20250330T010000
END:DAYLIGHT
BEGIN:STANDARD
TZOFFSETFROM:+0200
TZOFFSETTO:+0100
TZNAME:CET
DTSTART:20251026T010000
END:STANDARD
BEGIN:DAYLIGHT
TZOFFSETFROM:+0100
TZOFFSETTO:+0200
TZNAME:CEST
DTSTART:20260329T010000
END:DAYLIGHT
BEGIN:STANDARD
TZOFFSETFROM:+0200
TZOFFSETTO:+0100
TZNAME:CET
DTSTART:20261025T010000
END:STANDARD
BEGIN:DAYLIGHT
TZOFFSETFROM:+0100
TZOFFSETTO:+0200
TZNAME:CEST
DTSTART:20270328T010000
END:DAYLIGHT
BEGIN:STANDARD
TZOFFSETFROM:+0200
TZOFFSETTO:+0100
TZNAME:CET
DTSTART:20271031T010000
END:STANDARD
END:VTIMEZONE
BEGIN:VEVENT
DTSTART;VALUE=DATE:20260703
DTEND;VALUE=DATE:20260708
DTSTAMP:20260424T135639
CREATED:20260421T163111Z
LAST-MODIFIED:20260421T163234Z
UID:6214-1783036800-1783468799@beamyourlife.com
SUMMARY:Ipfmesse\, Bopfingen 03.07.2026 - 07.07.2026
DESCRIPTION:Für die Bopfinger ist sie das Volksfest aller Volksfeste und der Höhepunkt jeden Jahres: Die Ipfmess. Seit mittlerweile 200 Jahren wird sie nun gefeiert und ist heute mit rund 300.000 Besuchern das größte Volksfest in der Region. Die Schausteller\, spektakuläre Fahrbetriebe und mehr als 200 Marktkaufleute\, gemütliche Biergärten und das Festzelt machen den Ipfmess-Besuch für Jung und Alt zu einem unvergesslichen Erlebnis. \nBesuchen Sie uns Beamyourlife! \nWir freuen uns auf Ihren ฺBesuch!
URL:https://beamyourlife.com/event/ipfmesse-bopfingen-03-07-2026-07-07-2026/
END:VEVENT
BEGIN:VEVENT
DTSTART;TZID=Europe/Berlin:20260808T090000
DTEND;TZID=Europe/Berlin:20260816T180000
DTSTAMP:20260424T135639
CREATED:20260421T180744Z
LAST-MODIFIED:20260421T180744Z
UID:6223-1786179600-1786903200@beamyourlife.com
SUMMARY:Messe Straubing Ostbayernschau 08.08.2026 - 16.08.2026
DESCRIPTION:Ostbayernschau: Für 9 Tage Bayerns „größtes Shopping-Center“\nMit 60.000 Quadratmetern Ausstellungs-\, über 22.000 qm Hallenflächen und ca. 650 Ausstellern ist die angrenzende Ostbayernschau zumindest vom 08. – 16. August 2026 das vermutlich größte Shopping-Center im Freistaat. Das „XXL-Einkaufsparadies“ umfasst 16 Hallen – darunter die Joseph-von-Fraunhofer-Halle mit Messehalle – sowie ein großzügiges Freigelände mit Ruhe-Inseln\, Bauherren\, Hobby-Gärtnern\, Landwirten\, Hausfrauen oder Liebhabern kulinarischer Spezialitäten – alle kommen hier auf ihre Kosten. \nBesuchen Sie uns Beamyourlife! \nWir freuen uns auf Ihren ฺBesuch! \n 
URL:https://beamyourlife.com/event/messe-straubing-ostbayernschau-08-08-2026-16-08-2026/
END:VEVENT
END:VCALENDAR